BEGIN:VCALENDAR
VERSION:2.0
PRODID:-//Emergency Food Network - ECPv6.15.20//NONSGML v1.0//EN
CALSCALE:GREGORIAN
METHOD:PUBLISH
X-WR-CALNAME:Emergency Food Network
X-ORIGINAL-URL:https://www.efoodnet.org
X-WR-CALDESC:Events for Emergency Food Network
REFRESH-INTERVAL;VALUE=DURATION:PT1H
X-Robots-Tag:noindex
X-PUBLISHED-TTL:PT1H
BEGIN:VTIMEZONE
TZID:America/Los_Angeles
BEGIN:DAYLIGHT
TZOFFSETFROM:-0800
TZOFFSETTO:-0700
TZNAME:PDT
DTSTART:20210314T100000
END:DAYLIGHT
BEGIN:STANDARD
TZOFFSETFROM:-0700
TZOFFSETTO:-0800
TZNAME:PST
DTSTART:20211107T090000
END:STANDARD
BEGIN:DAYLIGHT
TZOFFSETFROM:-0800
TZOFFSETTO:-0700
TZNAME:PDT
DTSTART:20220313T100000
END:DAYLIGHT
BEGIN:STANDARD
TZOFFSETFROM:-0700
TZOFFSETTO:-0800
TZNAME:PST
DTSTART:20221106T090000
END:STANDARD
BEGIN:DAYLIGHT
TZOFFSETFROM:-0800
TZOFFSETTO:-0700
TZNAME:PDT
DTSTART:20230312T100000
END:DAYLIGHT
BEGIN:STANDARD
TZOFFSETFROM:-0700
TZOFFSETTO:-0800
TZNAME:PST
DTSTART:20231105T090000
END:STANDARD
BEGIN:DAYLIGHT
TZOFFSETFROM:-0800
TZOFFSETTO:-0700
TZNAME:PDT
DTSTART:20240310T100000
END:DAYLIGHT
BEGIN:STANDARD
TZOFFSETFROM:-0700
TZOFFSETTO:-0800
TZNAME:PST
DTSTART:20241103T090000
END:STANDARD
BEGIN:DAYLIGHT
TZOFFSETFROM:-0800
TZOFFSETTO:-0700
TZNAME:PDT
DTSTART:20250309T100000
END:DAYLIGHT
BEGIN:STANDARD
TZOFFSETFROM:-0700
TZOFFSETTO:-0800
TZNAME:PST
DTSTART:20251102T090000
END:STANDARD
BEGIN:DAYLIGHT
TZOFFSETFROM:-0800
TZOFFSETTO:-0700
TZNAME:PDT
DTSTART:20260308T100000
END:DAYLIGHT
BEGIN:STANDARD
TZOFFSETFROM:-0700
TZOFFSETTO:-0800
TZNAME:PST
DTSTART:20261101T090000
END:STANDARD
BEGIN:DAYLIGHT
TZOFFSETFROM:-0800
TZOFFSETTO:-0700
TZNAME:PDT
DTSTART:20270314T100000
END:DAYLIGHT
BEGIN:STANDARD
TZOFFSETFROM:-0700
TZOFFSETTO:-0800
TZNAME:PST
DTSTART:20271107T090000
END:STANDARD
END:VTIMEZONE
BEGIN:VTIMEZONE
TZID:UTC
BEGIN:STANDARD
TZOFFSETFROM:+0000
TZOFFSETTO:+0000
TZNAME:UTC
DTSTART:20180101T000000
END:STANDARD
END:VTIMEZONE
BEGIN:VEVENT
DTSTART;TZID=America/Los_Angeles:20260509T060000
DTEND;TZID=America/Los_Angeles:20260509T180000
DTSTAMP:20260423T101905
CREATED:20230505T151513Z
LAST-MODIFIED:20260217T192422Z
UID:16786-1778306400-1778349600@www.efoodnet.org
SUMMARY:Stamp Out Hunger - Letter Carriers' Food Drive 2026
DESCRIPTION:‘Stamp Out Hunger’ Letter Carriers’ Food Drive – Saturday\, May 9\, 2026 \n\n\n\n \nFor over 30 years\, the National Association of Letter Carriers (NALC) has conducted an annual nationwide food drive\, collecting non-perishable food donations along postal routes. In Pierce County\, EFN works closely with Union Branch 130 to collect more than 200\,000 pounds of food for our neighbors in need in one day! Here’s how to participate: \n1. Find your donation bag in the mail. \n2. Fill it with nutritious nonperishable foods. Avoid expired or junk food items\, and no glass jars\, please. \n3. Leave your donation at your mailbox on May 9. EFN\, our volunteers\, and Partner Programs do the rest! \nOther Ways to Help: \n• Volunteer with your local Post Office branch on the day of the event to help pick up food and unload it (contact volunteer@efoodnet.org to learn more). \n• Remind the community about the food drive by posting about it on your company or church bulletin board\, newsletter\, or social media. \n• Donate! If you would like to donate funds to EFN in support of this event\, please visit our donation page.
URL:https://www.efoodnet.org/event/stamp-out-hunger-letter-carriers-food-drive/
LOCATION:Pierce County
ATTACH;FMTTYPE=image/jpeg:https://www.efoodnet.org/wp-content/uploads/2021/10/EVhM4LUWkAATkuY-scaled.jpeg
ORGANIZER;CN="Emergency Food Network":MAILTO:events@efoodnet.org
END:VEVENT
BEGIN:VEVENT
DTSTART;TZID=America/Los_Angeles:20260502T080000
DTEND;TZID=America/Los_Angeles:20260502T080000
DTSTAMP:20260423T101905
CREATED:20240131T191546Z
LAST-MODIFIED:20260209T192910Z
UID:17437-1777708800-1777708800@www.efoodnet.org
SUMMARY:Hunger Walk 2026
DESCRIPTION:Hunger Walk\nMay 2\, 2026\nThe Hunger Walk is an annual opportunity for community members to support Emergency Food Network’s mission of providing food to our neighbors in need “so that no person goes hungry.” \nThe 2026 Hunger Walk will take place on May 2 from 8-11 AM at Fort Steilacoom Park. Virtual registration is also available. \nView the Event Map.
URL:https://www.efoodnet.org/event/hunger-walk-2026/
LOCATION:Fort Steilacoom Park\, 8714 87th Ave SW\, Lakewood\, WA\, 98498\, United States
CATEGORIES:Community Event
END:VEVENT
BEGIN:VEVENT
DTSTART;TZID=America/Los_Angeles:20241205T060000
DTEND;TZID=America/Los_Angeles:20241205T173000
DTSTAMP:20260423T101905
CREATED:20231107T185527Z
LAST-MODIFIED:20241121T184806Z
UID:17316-1733378400-1733419800@www.efoodnet.org
SUMMARY:15th Annual Fallen Officer's Food Drive & Blood Drive
DESCRIPTION:Join Emergency Food Network (EFN) and the Lakewood Police Department for the 15th Annual Fallen Officers Food Drive. This meaningful event\, held in memory of the four officers who tragically lost their lives in 2009\, helps feed families in need across Pierce County. Since its inception\, the drive has provided over 720\,000 meals to individuals and families. All donations go to Emergency Food Network. \nDetails: \nFood & Blood Drive: Thursday\, December 5 at the Lakewood Police Station – 9401 Lakewood Drive SW \n\nFood Drive • 6 a.m. – 5:30 p.m. \nBlood Drive • 9 a.m. – 3 p.m. Pre-registration required at https://shorturl.at/kw7Ki. \nBins available Dec. 2 – 9 for food drive drop off at the following locations: \nLakewood Police Station\, University Place Classic Coffee\, Lakewood City Hall\, Blue Steele Coffee\, Lakewood Classy Chassis\, Lakewood Classic Coffee \n\nDonate online: Fallen Officers Food Drive — Emergency Food Network \nThose who want to donate in person can visit the Lakewood Police Department\, 9401 Lakewood Drive SW\, on Nov. 29 between 6 a.m. and 5:30 p.m.
URL:https://www.efoodnet.org/event/fallenofficers/
LOCATION:Lakewood Polide Department\, 9401 Lakewood Dr SW\, Lakewood\, WA\, 98499\, United States
ATTACH;FMTTYPE=image/jpeg:https://www.efoodnet.org/wp-content/uploads/2023/11/Fallen-Officers-Food-Drive-e1732212527768.jpg
ORGANIZER;CN="Emergency Food Network":MAILTO:events@efoodnet.org
END:VEVENT
BEGIN:VEVENT
DTSTART;TZID=America/Los_Angeles:20240731T173000
DTEND;TZID=America/Los_Angeles:20240731T193000
DTSTAMP:20260423T101905
CREATED:20230612T194309Z
LAST-MODIFIED:20240610T201129Z
UID:16984-1722447000-1722454200@www.efoodnet.org
SUMMARY:Brewers' Night
DESCRIPTION:Join us for Brewers’ Night at Mother Earth Farm! Get your hands dirty pulling weeds while sipping on ice-cold brews courtesy of a local brewery. It’s the perfect combo of fun and community service!🌱 To Register: This event is 21 and up. Photo ID and an event invitation are required (we will be unable to accept walk-ins). To request an invitation to this event\, please sign up here and we will send you a confirmation email.
URL:https://www.efoodnet.org/event/brewers-night-3/
LOCATION:EFN’s Mother Earth Farm\, 15208 102nd St E\, Puyallup\, WA\, 98374\, United States
ATTACH;FMTTYPE=image/png:https://www.efoodnet.org/wp-content/uploads/2023/06/BN6-8.png
END:VEVENT
BEGIN:VEVENT
DTSTART;TZID=America/Los_Angeles:20240717T173000
DTEND;TZID=America/Los_Angeles:20240717T193000
DTSTAMP:20260423T101905
CREATED:20230612T194148Z
LAST-MODIFIED:20240610T201224Z
UID:16981-1721237400-1721244600@www.efoodnet.org
SUMMARY:Brewers' Night
DESCRIPTION:Join us for Brewers’ Night at Mother Earth Farm! Get your hands dirty pulling weeds while sipping on ice-cold brews courtesy of a local brewery. It’s the perfect combo of fun and community service!🌱 To Register: This event is 21 and up. Photo ID and an event invitation are required (we will be unable to accept walk-ins). To request an invitation to this event\, please sign up here and we will send you a confirmation within 24 hours.
URL:https://www.efoodnet.org/event/brewers-night-2/
LOCATION:EFN’s Mother Earth Farm\, 15208 102nd St E\, Puyallup\, WA\, 98374\, United States
ATTACH;FMTTYPE=image/png:https://www.efoodnet.org/wp-content/uploads/2023/06/BN6-6.png
END:VEVENT
BEGIN:VEVENT
DTSTART;TZID=America/Los_Angeles:20240703T173000
DTEND;TZID=America/Los_Angeles:20240703T173000
DTSTAMP:20260423T101905
CREATED:20230612T194001Z
LAST-MODIFIED:20240610T201214Z
UID:16978-1720027800-1720027800@www.efoodnet.org
SUMMARY:Brewers' Night
DESCRIPTION:Join us for Brewers’ Night at Mother Earth Farm! Get your hands dirty pulling weeds while sipping on ice-cold brews courtesy of a local brewery. It’s the perfect combo of fun and community service!🌱 To Register: This event is 21 and up. Photo ID and an event invitation are required (we will be unable to accept walk-ins). To request an invitation to this event\, please sign up here and we will send you a confirmation within 24 hours.
URL:https://www.efoodnet.org/event/brewers-night/
LOCATION:EFN’s Mother Earth Farm\, 15208 102nd St E\, Puyallup\, WA\, 98374\, United States
ATTACH;FMTTYPE=image/jpeg:https://www.efoodnet.org/wp-content/uploads/2023/06/48061983263_463d618ca4_c.jpg
END:VEVENT
BEGIN:VEVENT
DTSTART;TZID=America/Los_Angeles:20230906T173000
DTEND;TZID=America/Los_Angeles:20230906T193000
DTSTAMP:20260423T101905
CREATED:20230612T194636Z
LAST-MODIFIED:20230612T194636Z
UID:16993-1694021400-1694028600@www.efoodnet.org
SUMMARY:Brewers Night
DESCRIPTION:Join us on Wednesday evenings for beer/cider\, pizza\, and friends while helping us with the important task of weeding so that we grow and provide the freshest\, most nutritious produce for our food pantry partners! (21+ event)
URL:https://www.efoodnet.org/event/brewers-night-6/
LOCATION:EFN’s Mother Earth Farm\, 15208 102nd St E\, Puyallup\, WA\, 98374\, United States
ATTACH;FMTTYPE=image/png:https://www.efoodnet.org/wp-content/uploads/2023/06/Z.png
END:VEVENT
BEGIN:VEVENT
DTSTART;TZID=America/Los_Angeles:20230823T173000
DTEND;TZID=America/Los_Angeles:20230823T193000
DTSTAMP:20260423T101905
CREATED:20230612T194535Z
LAST-MODIFIED:20230612T194535Z
UID:16990-1692811800-1692819000@www.efoodnet.org
SUMMARY:Brewers Night
DESCRIPTION:Join us on Wednesday evenings for beer/cider\, pizza\, and friends while helping us with the important task of weeding so that we grow and provide the freshest\, most nutritious produce for our food pantry partners! (21+ event)
URL:https://www.efoodnet.org/event/brewers-night-5/
LOCATION:EFN’s Mother Earth Farm\, 15208 102nd St E\, Puyallup\, WA\, 98374\, United States
ATTACH;FMTTYPE=image/png:https://www.efoodnet.org/wp-content/uploads/2023/06/BN6-12.png
END:VEVENT
BEGIN:VEVENT
DTSTART;TZID=America/Los_Angeles:20230809T173000
DTEND;TZID=America/Los_Angeles:20230809T193000
DTSTAMP:20260423T101905
CREATED:20230612T194440Z
LAST-MODIFIED:20230612T194440Z
UID:16987-1691602200-1691609400@www.efoodnet.org
SUMMARY:Brewers Night
DESCRIPTION:Join us on Wednesday evenings for beer/cider\, pizza\, and friends while helping us with the important task of weeding so that we grow and provide the freshest\, most nutritious produce for our food pantry partners! (21+ event)
URL:https://www.efoodnet.org/event/brewers-night-4/
LOCATION:EFN’s Mother Earth Farm\, 15208 102nd St E\, Puyallup\, WA\, 98374\, United States
ATTACH;FMTTYPE=image/png:https://www.efoodnet.org/wp-content/uploads/2023/06/BN6-10.png
END:VEVENT
BEGIN:VEVENT
DTSTART;TZID=America/Los_Angeles:20230526T140000
DTEND;TZID=America/Los_Angeles:20230526T150000
DTSTAMP:20260423T101905
CREATED:20230501T165548Z
LAST-MODIFIED:20230501T172022Z
UID:16768-1685109600-1685113200@www.efoodnet.org
SUMMARY:Warehouse Tour
DESCRIPTION:Have you ever wondered what it looks like for EFN to distribute more than a million pounds of food each month? This Hunger Awareness Month\, you’re invited to EFN’s Distribution Center for a behind-the-scenes look at EFN’s operations. Join the EFN team on Fridays this May to tour the warehouse and see us in action supplying nutritious food to our 75+ Partner Programs. Even if you’ve been to EFN before\, you’ll learn something new about how we are meeting the need in our community. Bring your questions (and close-toed shoes!) to the EFN Distribution Center. \nEFN’s Distribution Center is located at 3318 92nd St S\, Lakewood\, WA 98499. Tours will begin at the Repack entrance\, on 92nd St. Close-toed shoes required\, but no RSVP. \nBring a friend\, family member\, or coworker to show them the incredible work it takes to feed our neighbors in need. We look forward to sharing the inside scoop with you soon!
URL:https://www.efoodnet.org/event/warehouse-tour-6/
LOCATION:EFN Distribution Center – North 40 Building\, 3318 92nd St S\, Lakewood\, WA\, 98499\, United States
ATTACH;FMTTYPE=image/jpeg:https://www.efoodnet.org/wp-content/uploads/2023/05/warehouse-1-scaled.jpg
END:VEVENT
BEGIN:VEVENT
DTSTART;TZID=America/Los_Angeles:20230519T120000
DTEND;TZID=America/Los_Angeles:20230519T130000
DTSTAMP:20260423T101905
CREATED:20230501T165457Z
LAST-MODIFIED:20230501T172043Z
UID:16766-1684497600-1684501200@www.efoodnet.org
SUMMARY:Warehouse Tour
DESCRIPTION:Have you ever wondered what it looks like for EFN to distribute more than a million pounds of food each month? This Hunger Awareness Month\, you’re invited to EFN’s Distribution Center for a behind-the-scenes look at EFN’s operations. Join the EFN team on Fridays this May to tour the warehouse and see us in action supplying nutritious food to our 75+ Partner Programs. Even if you’ve been to EFN before\, you’ll learn something new about how we are meeting the need in our community. Bring your questions (and close-toed shoes!) to the EFN Distribution Center. \nEFN’s Distribution Center is located at 3318 92nd St S\, Lakewood\, WA 98499. Tours will begin at the Repack entrance\, on 92nd St. Close-toed shoes required\, but no RSVP. \nBring a friend\, family member\, or coworker to show them the incredible work it takes to feed our neighbors in need. We look forward to sharing the inside scoop with you soon!
URL:https://www.efoodnet.org/event/warehouse-tour-5/
LOCATION:EFN Distribution Center – North 40 Building\, 3318 92nd St S\, Lakewood\, WA\, 98499\, United States
ATTACH;FMTTYPE=image/jpeg:https://www.efoodnet.org/wp-content/uploads/2023/05/warehouse-1-scaled.jpg
END:VEVENT
BEGIN:VEVENT
DTSTART;TZID=America/Los_Angeles:20230512T120000
DTEND;TZID=America/Los_Angeles:20230512T130000
DTSTAMP:20260423T101905
CREATED:20230501T165316Z
LAST-MODIFIED:20230501T172102Z
UID:16764-1683892800-1683896400@www.efoodnet.org
SUMMARY:Warehouse Tour
DESCRIPTION:Have you ever wondered what it looks like for EFN to distribute more than a million pounds of food each month? This Hunger Awareness Month\, you’re invited to EFN’s Distribution Center for a behind-the-scenes look at EFN’s operations. Join the EFN team on Fridays this May to tour the warehouse and see us in action supplying nutritious food to our 75+ Partner Programs. Even if you’ve been to EFN before\, you’ll learn something new about how we are meeting the need in our community. Bring your questions (and close-toed shoes!) to the EFN Distribution Center. \nEFN’s Distribution Center is located at 3318 92nd St S\, Lakewood\, WA 98499. Tours will begin at the Repack entrance\, on 92nd St. Close-toed shoes required\, but no RSVP. \nBring a friend\, family member\, or coworker to show them the incredible work it takes to feed our neighbors in need. We look forward to sharing the inside scoop with you soon!
URL:https://www.efoodnet.org/event/warehouse-tour-4/
LOCATION:EFN Distribution Center – North 40 Building\, 3318 92nd St S\, Lakewood\, WA\, 98499\, United States
ATTACH;FMTTYPE=image/jpeg:https://www.efoodnet.org/wp-content/uploads/2023/05/warehouse-1-scaled.jpg
END:VEVENT
BEGIN:VEVENT
DTSTART;TZID=America/Los_Angeles:20230511T130000
DTEND;TZID=America/Los_Angeles:20230511T140000
DTSTAMP:20260423T101905
CREATED:20230501T165804Z
LAST-MODIFIED:20230501T172240Z
UID:16770-1683810000-1683813600@www.efoodnet.org
SUMMARY:Mother Earth Farm Tour
DESCRIPTION:Want a breath of fresh air and an inside look at the beautiful\, nutritious produce we’re growing for neighbors in need? Come to Mother Earth Farm for a special tour in recognition of Hunger Awareness Month! \nOn May 11th at 1pm\, the team at Mother Earth will provide an exclusive tour of our eight-acre farm. Guests will have the chance to see our greenhouse\, high tunnels\, fields\, and more – no weeding required. \nEFN’s Mother Earth Farm is located at 15208 102nd St E\, Puyallup\, WA 98374. Wear weather-appropriate layers; we’ll tour rain or shine! Parking information and other details are available in our MEF Volunteer Orientation video.
URL:https://www.efoodnet.org/event/mother-earth-farm-tour-3/
LOCATION:EFN’s Mother Earth Farm\, 15208 102nd St E\, Puyallup\, WA\, 98374\, United States
ATTACH;FMTTYPE=image/jpeg:https://www.efoodnet.org/wp-content/uploads/2021/10/240678466_10158096921855233_773381440246491691_n.jpeg
END:VEVENT
BEGIN:VEVENT
DTSTART;TZID=America/Los_Angeles:20230505T120000
DTEND;TZID=America/Los_Angeles:20230505T130000
DTSTAMP:20260423T101905
CREATED:20230501T164826Z
LAST-MODIFIED:20230501T172129Z
UID:16760-1683288000-1683291600@www.efoodnet.org
SUMMARY:Warehouse Tour
DESCRIPTION:Have you ever wondered what it looks like for EFN to distribute more than a million pounds of food each month? This Hunger Awareness Month\, you’re invited to EFN’s Distribution Center for a behind-the-scenes look at EFN’s operations. Join the EFN team on Fridays this May to tour the warehouse and see us in action supplying nutritious food to our 75+ Partner Programs. Even if you’ve been to EFN before\, you’ll learn something new about how we are meeting the need in our community. Bring your questions (and close-toed shoes!) to the EFN Distribution Center. \nEFN’s Distribution Center is located at 3318 92nd St S\, Lakewood\, WA 98499. Tours will begin at the Repack entrance\, on 92nd St. Close-toed shoes required\, but no RSVP. \nBring a friend\, family member\, or coworker to show them the incredible work it takes to feed our neighbors in need. We look forward to sharing the inside scoop with you soon!
URL:https://www.efoodnet.org/event/warehouse-tour-3/
LOCATION:EFN Distribution Center – North 40 Building\, 3318 92nd St S\, Lakewood\, WA\, 98499\, United States
ATTACH;FMTTYPE=image/jpeg:https://www.efoodnet.org/wp-content/uploads/2023/05/warehouse-1-scaled.jpg
END:VEVENT
BEGIN:VEVENT
DTSTART;TZID=America/Los_Angeles:20221119T130000
DTEND;TZID=America/Los_Angeles:20221119T150000
DTSTAMP:20260423T101905
CREATED:20220718T165255Z
LAST-MODIFIED:20221109T221001Z
UID:15976-1668862800-1668870000@www.efoodnet.org
SUMMARY:Empty Bowls
DESCRIPTION:This Emergency Food Network event is an annual gathering enjoyed by more than 500 people each year. Local potters\, woodworkers\, and glassblowers have spent countless hours making bowls to donate to EFN’s Empty Bowls over the past year. \nProceeds from each bowl sale go toward making sure our Pierce County neighbors in need do not go hungry.
URL:https://www.efoodnet.org/event/empty-bowls/
LOCATION:EFN Distribution Center – North 40 Building\, 3318 92nd St S\, Lakewood\, WA\, 98499\, United States
CATEGORIES:Community Event
ATTACH;FMTTYPE=image/jpeg:https://www.efoodnet.org/wp-content/uploads/2022/07/EB-title-header-with-small-stack-bowls.jpg
ORGANIZER;CN="Emergency Food Network":MAILTO:events@efoodnet.org
END:VEVENT
BEGIN:VEVENT
DTSTART;TZID=UTC:20221022T180000
DTEND;TZID=UTC:20221022T220000
DTSTAMP:20260423T101905
CREATED:20220526T020047Z
LAST-MODIFIED:20220718T173220Z
UID:14305-1666461600-1666476000@www.efoodnet.org
SUMMARY:Abundance Dinner & Auction
DESCRIPTION:We are delighted to share that the Abundance Dinner and Auction returns in-person to the McGavick Center on October 22nd\, 2022! This event features a delicious dinner\, exciting live and silent auctions\, and an impactful way to give. Proceeds from this memorable night will provide emergency food for our neighbors in need throughout Pierce County. \nPurchase tickets for Abundance now! \nOne way you can help make Abundance a success is by donating items and experiences for our live and silent auctions. Do you have a cabin\, timeshare\, airline miles\, or season tickets for local theater companies or sports teams? You can help make our auction a success by donating the use of these experiences! We’re also looking for gift cards that can be added to existing packages or used to purchase items for the auction. \nPlease contact our Development Manager\, Claire Aijian\, at Claire@efoodnet.org if you’d like to donate an item or experience.
URL:https://www.efoodnet.org/event/abundance-event-auction/
LOCATION:McGavick Conference Center\, Clover Park Technical College\, 4500 Steilacoom Blvd SW\, Lakewood\, WA\, United States
CATEGORIES:Community Event
ATTACH;FMTTYPE=image/png:https://www.efoodnet.org/wp-content/uploads/2022/05/Abundance-Header-16-9.png
ORGANIZER;CN="Emergency Food Network":MAILTO:events@efoodnet.org
END:VEVENT
BEGIN:VEVENT
DTSTART;TZID=UTC:20220623T090000
DTEND;TZID=UTC:20220623T090000
DTSTAMP:20260423T101905
CREATED:20220527T031928Z
LAST-MODIFIED:20220616T100148Z
UID:14391-1655974800-1655974800@www.efoodnet.org
SUMMARY:Grow Your Food - Seed Start Distribution
DESCRIPTION:We hope to see you at 9am at EFN’s Community Garden in Lakewood (3318 S 92nd S\, Lakewood\, WA\, 98499) to pick up veggie starts. Starts will be first come\, first serve and will be out until they are gone! \nStay tuned to EFN’s social media pages for weekly updates on what varieties will be available! Click here to learn more about EFN’s Grow Your Food Program.
URL:https://www.efoodnet.org/event/grow-your-food-seed-start-distribution/
LOCATION:EFN Distribution Center – North 40 Building\, 3318 92nd St S\, Lakewood\, WA\, 98499\, United States
CATEGORIES:Community Event
ATTACH;FMTTYPE=image/jpeg:https://www.efoodnet.org/wp-content/uploads/2022/05/IMG_5934-scaled.jpg
END:VEVENT
BEGIN:VEVENT
DTSTART;TZID=UTC:20220618T090000
DTEND;TZID=UTC:20220618T120000
DTSTAMP:20260423T101905
CREATED:20220527T040839Z
LAST-MODIFIED:20220616T100030Z
UID:14409-1655542800-1655553600@www.efoodnet.org
SUMMARY:Volunteer Session: Mother Earth Farm
DESCRIPTION:EFN’s Mother Earth Farm is an 8-acre farm located in the beautiful Puyallup Valley. The farm organically grows over 100 varieties of fruits and vegetables for distribution to Pierce County food pantries. Food from the farm is typically available to our neighbors in need within 48-hours of harvest! \nVolunteers at the farm assist with seeding\, weeding\, composting\, irrigation\, weeding\, and harvesting. \nSee more information and sign up to volunteer at EFN’s Mother Earth Farm on the Volunteer Portal.
URL:https://www.efoodnet.org/event/volunteer-session-mother-earth-farm/
LOCATION:EFN’s Mother Earth Farm\, 15208 102nd St E\, Puyallup\, WA\, 98374\, United States
CATEGORIES:Mother Earth Farm,Volunteer Opportunity
ATTACH;FMTTYPE=image/jpeg:https://www.efoodnet.org/wp-content/uploads/2022/05/51927191200_8819767d6d_6k-scaled.jpg
END:VEVENT
BEGIN:VEVENT
DTSTART;TZID=UTC:20220518T130000
DTEND;TZID=UTC:20220518T131500
DTSTAMP:20260423T101905
CREATED:20220526T031824Z
LAST-MODIFIED:20220526T031837Z
UID:14338-1652878800-1652879700@www.efoodnet.org
SUMMARY:Warehouse Tour
DESCRIPTION:Want to get an inside look at how EFN distributes more than 1 million pounds of food each month? Join us for a tour at our Lakewood Campus\, which includes our warehouses\, to see how we do it! \nIf you are interested in joining us\, please contact Claire@efoodnet.org.
URL:https://www.efoodnet.org/event/warehouse-tour-2/
LOCATION:EFN Distribution Center – North 40 Building\, 3318 92nd St S\, Lakewood\, WA\, 98499\, United States
ATTACH;FMTTYPE=image/jpeg:https://www.efoodnet.org/wp-content/uploads/2022/05/IMG_5849-scaled-1.jpeg
END:VEVENT
BEGIN:VEVENT
DTSTART;VALUE=DATE:20220514
DTEND;VALUE=DATE:20220515
DTSTAMP:20260423T101905
CREATED:20220526T025853Z
LAST-MODIFIED:20220527T032133Z
UID:14335-1652486400-1652572799@www.efoodnet.org
SUMMARY:Letter Carriers' Stamp Out Hunger Food Drive
DESCRIPTION:The “Stamp Out Hunger” food drive returns this spring on Saturday\, May 14\, 2022! All you have to do to participate is leave your bag of canned food donations at your mailbox on Saturday\, May 14! \nYour letter carrier or an EFN volunteer will collect the food\, bring it to EFN’s warehouse to sort and then distribute to our 75+ Partner Programs throughout Pierce County. \nIn Pierce County\, Emergency Food Network works closely with Union Branch 130 to collect and share more than 200\,000 pounds of food with our Partner Programs! Click here to learn more. \nContact SamC@efoodnet.org if you have any questions about the food drive.
URL:https://www.efoodnet.org/event/letter-carriers-stamp-out-hunger-food-drive-2/
LOCATION:WA
CATEGORIES:Food Drive
END:VEVENT
BEGIN:VEVENT
DTSTART;TZID=UTC:20220504T130000
DTEND;TZID=UTC:20220504T140000
DTSTAMP:20260423T101905
CREATED:20220526T024610Z
LAST-MODIFIED:20220526T024931Z
UID:14322-1651669200-1651672800@www.efoodnet.org
SUMMARY:Mother Earth Farm Tour
DESCRIPTION:Join us at Mother Earth Farm for a tour of our gorgeous 8 acres that produce over 86\,000 pounds of food for neighbors each year. \nIf you are interested in joining us\, please contact Claire@efoodnet.org.
URL:https://www.efoodnet.org/event/mother-earth-farm-tour-2/
LOCATION:EFN’s Mother Earth Farm\, 15208 102nd St E\, Puyallup\, WA\, 98374\, United States
ATTACH;FMTTYPE=image/jpeg:https://www.efoodnet.org/wp-content/uploads/2022/05/27970510226_92d279ac90_k.jpeg
END:VEVENT
BEGIN:VEVENT
DTSTART;VALUE=DATE:20220503
DTEND;VALUE=DATE:20220505
DTSTAMP:20260423T101905
CREATED:20220526T024223Z
LAST-MODIFIED:20220526T025013Z
UID:14312-1651536000-1651708799@www.efoodnet.org
SUMMARY:GiveBIG
DESCRIPTION:GiveBIG is a statewide fundraising campaign where individuals and organizations come together across Washington to invest in our community. When we give\, we take a proactive step towards creating the society we want to live in. Last year\, EFN supporters gave over $25\,000 during GiveBIG to provide our neighbors in need with nutritious\, accessible food. \nThis year’s GiveBIG campaign kicks off April 19\, and culminates with 48-hour giving event on May 3-4! By donating to EFN through our GiveBIG page\, you can double your impact thanks to our matching gift from Coordinated Care. That means double the meals for our neighbors. \nDonate here: https://mtyc.co/m5t8df
URL:https://www.efoodnet.org/event/givebig/
LOCATION:WA
ATTACH;FMTTYPE=image/png:https://www.efoodnet.org/wp-content/uploads/2022/05/GiveBIG-Blue-May-Solid.png
ORGANIZER;CN="Alicia Price":MAILTO:aliciap@efoodnet.org
END:VEVENT
BEGIN:VEVENT
DTSTART;TZID=UTC:20210823T225400
DTEND;TZID=UTC:20210823T225400
DTSTAMP:20260423T101905
CREATED:20220526T020249Z
LAST-MODIFIED:20220526T020249Z
UID:14306-1629759240-1629759240@www.efoodnet.org
SUMMARY:Nourishing Neighbors 2021
DESCRIPTION:
URL:https://www.efoodnet.org/event/nourishing-neighbors-2021/
LOCATION:WA
END:VEVENT
BEGIN:VEVENT
DTSTART;TZID=UTC:20191114T195900
DTEND;TZID=UTC:20191114T195900
DTSTAMP:20260423T101905
CREATED:20220526T020047Z
LAST-MODIFIED:20220526T020047Z
UID:14304-1573761540-1573761540@www.efoodnet.org
SUMMARY:#GivingTuesday
DESCRIPTION:
URL:https://www.efoodnet.org/event/givingtuesday-2/
LOCATION:WA
END:VEVENT
BEGIN:VEVENT
DTSTART;TZID=UTC:20191014T190000
DTEND;TZID=UTC:20191014T190000
DTSTAMP:20260423T101906
CREATED:20220526T020047Z
LAST-MODIFIED:20220526T020047Z
UID:14303-1571079600-1571079600@www.efoodnet.org
SUMMARY:Fallen Officers Food Drive & Blood Drive
DESCRIPTION:
URL:https://www.efoodnet.org/event/fallen-officers-food-drive-blood-drive/
LOCATION:WA
END:VEVENT
BEGIN:VEVENT
DTSTART;TZID=UTC:20190702T204200
DTEND;TZID=UTC:20190702T204200
DTSTAMP:20260423T101906
CREATED:20220526T020046Z
LAST-MODIFIED:20220526T020046Z
UID:14302-1562100120-1562100120@www.efoodnet.org
SUMMARY:Brewery Takeover
DESCRIPTION:
URL:https://www.efoodnet.org/event/brewery-takeover/
LOCATION:WA
END:VEVENT
BEGIN:VEVENT
DTSTART;TZID=UTC:20190508T080000
DTEND;TZID=UTC:20190508T080000
DTSTAMP:20260423T101906
CREATED:20220526T020031Z
LAST-MODIFIED:20220526T020031Z
UID:14298-1557302400-1557302400@www.efoodnet.org
SUMMARY:Restaurant Takeover
DESCRIPTION:
URL:https://www.efoodnet.org/event/restaurant-takeover/
LOCATION:WA
END:VEVENT
END:VCALENDAR